BEGIN:VCALENDAR
VERSION:2.0
PRODID:-//Song Stringer Presents - ECPv6.9.0//NONSGML v1.0//EN
CALSCALE:GREGORIAN
METHOD:PUBLISH
X-WR-CALNAME:Song Stringer Presents
X-ORIGINAL-URL:https://songstringerpresents.com
X-WR-CALDESC:Events for Song Stringer Presents
REFRESH-INTERVAL;VALUE=DURATION:PT1H
X-Robots-Tag:noindex
X-PUBLISHED-TTL:PT1H
BEGIN:VTIMEZONE
TZID:America/New_York
BEGIN:DAYLIGHT
TZOFFSETFROM:-0500
TZOFFSETTO:-0400
TZNAME:EDT
DTSTART:20250309T070000
END:DAYLIGHT
BEGIN:STANDARD
TZOFFSETFROM:-0400
TZOFFSETTO:-0500
TZNAME:EST
DTSTART:20251102T060000
END:STANDARD
END:VTIMEZONE
BEGIN:VEVENT
DTSTART;TZID=America/New_York:20250305T200000
DTEND;TZID=America/New_York:20250305T230000
DTSTAMP:20260422T021312
CREATED:20250219T062521Z
LAST-MODIFIED:20250219T062521Z
UID:415-1741204800-1741215600@songstringerpresents.com
SUMMARY:Inspired By w/ Hannah Stokes feat. Taylor Maxwell\, Elizabeth Ward\, Joel Pickering
DESCRIPTION:Join us Wednesday\, March 5th\, at Barley & Vine for an evening of music by artists that inspired our own. Tickets by donation. \nInspired By is a monthly series that features local songwriters in Central Florida. Each performer chooses one artist to cover that has inspired their musical journey and presents a half-and-half set of originals and covers! \nThis month we’re featuring Taylor Maxwell (Wilco)\, Elizabeth Ward (Brandi Carlile)\, & Joel Pickering (Uncle Tupelo). Hosted by Hannah Stokes. \nSpend an evening becoming acquainted with Orlando’s own songwriters as we celebrate both originality and the power of inspiration. \n  \nBarley & Vine Biergarten \nWednesday\, March 5th\, 8:00pm \n$5 suggested donation \nAll ages \n_______________________ \nHannah Stokes \nhannahstokesmusic.com \nTaylor Maxwell \ntaylormaxwellmusic.com \nElizabeth Ward \ninstagram.com/theukefreak \nJoel Pickering \ninstagram.com/joelpickeringmusic \n 
URL:https://songstringerpresents.com/event/inspired-by-w-hannah-stokes-feat-taylor-maxwell-elizabeth-ward-joel-pickering/
LOCATION:Barley & Vine Biergarten\, 2406 E Washington St\, Orlando\, FL\, 32803\, United States
CATEGORIES:Inspired By
ATTACH;FMTTYPE=image/png:https://songstringerpresents.com/wp-content/uploads/2025/02/Inspired-By-35-web.png
ORGANIZER;CN="Song Stringer":MAILTO:contact@songstringerpresents.com
END:VEVENT
BEGIN:VEVENT
DTSTART;TZID=America/New_York:20250321T193000
DTEND;TZID=America/New_York:20250321T230000
DTSTAMP:20260422T021312
CREATED:20250225T201335Z
LAST-MODIFIED:20250226T010424Z
UID:418-1742585400-1742598000@songstringerpresents.com
SUMMARY:Songwriters Rising w/ Hannah Stokes feat. Beartoe\, Faith Alene\, & Verity Rae & the Mystic
DESCRIPTION:Songwriters Rising is a monthly gathering featuring local songwriters\, original music\, and conversation to encourage a new and fun way of connecting with live music and each other. \nEvery 3rd Friday. Doors 7:30pm. Music 8-11pm. Bynx Orlando. $8adv/$10doors \nThis month we are exploring the universes of:\nBeartoe (beartoe.com)\nFaith Alene (linktr.ee/faithalene)\nVerity Rae (instagram.com/verityrae.mystic)\nHosted by Hannah Stokes (hannahstokesmusic.com) \nSongwriters Rising evolves from the traditional format of the songwriter listening room concert (where the performer gives and the audience takes) and shift towards a new way of experiencing story and song that involves participation and exchange from both artist and listener. \nAt Bynx\, you can expect a space where live music is a mutually active experience for audience and artist. Where the listener feels like they are a part of the artistic experience rather than a passive observer. To become a part of the celestial body rather than remaining the astronomer. \nCome prepared to enjoy a meaningful night of community\, music\, and expression whether you are by yourself or making plans with friends! \nThough we are stars that seem so distant from one another\, we make up one mysterious\, complicated\, beautiful constellation. \n___________________________________________ \n“The experience of ‘otherness’ is essential to our growth and health as intellectual\, emotional\, and spiritual beings. \nIt’s pleasurable to enjoy good music\, but it also enriches our lives to have our deepest hopes\, darkest pains\, and greatest victories validated by another.”
URL:https://songstringerpresents.com/event/songwriters-rising-w-hannah-stokes-feat-beartoe-faith-alene-verity-rae/
LOCATION:Bynx Cafe\, 420 E Church St. Suite 118\, Orlando\, Florida\, 32801\, United States
CATEGORIES:Songwriters Rising
ATTACH;FMTTYPE=image/png:https://songstringerpresents.com/wp-content/uploads/2025/02/Songwriters-Rising-321-FB-copy.png
ORGANIZER;CN="Song Stringer":MAILTO:contact@songstringerpresents.com
END:VEVENT
END:VCALENDAR