BEGIN:VCALENDAR
VERSION:2.0
PRODID:-//Song Stringer Presents - ECPv6.9.0//NONSGML v1.0//EN
CALSCALE:GREGORIAN
METHOD:PUBLISH
X-ORIGINAL-URL:https://songstringerpresents.com
X-WR-CALDESC:Events for Song Stringer Presents
REFRESH-INTERVAL;VALUE=DURATION:PT1H
X-Robots-Tag:noindex
X-PUBLISHED-TTL:PT1H
BEGIN:VTIMEZONE
TZID:America/New_York
BEGIN:DAYLIGHT
TZOFFSETFROM:-0500
TZOFFSETTO:-0400
TZNAME:EDT
DTSTART:20240310T070000
END:DAYLIGHT
BEGIN:STANDARD
TZOFFSETFROM:-0400
TZOFFSETTO:-0500
TZNAME:EST
DTSTART:20241103T060000
END:STANDARD
END:VTIMEZONE
BEGIN:VEVENT
DTSTART;TZID=America/New_York:20240904T200000
DTEND;TZID=America/New_York:20240904T230000
DTSTAMP:20260422T113230
CREATED:20250114T074836Z
LAST-MODIFIED:20250114T075338Z
UID:166-1725480000-1725490800@songstringerpresents.com
SUMMARY:Inspired By 2nd Birthday Bash!!!
DESCRIPTION:It’s our birthday!!! Inspired By has officially been a monthly series for 2 years and it has been a true pleasure and honor to put these events together. In that time we have hosted nearly 100 songwriters and given them a platform to share their original music and their musical inspirations! So lets celebrate 💃🏼\nJoin us Wednesday\, September 4th\, at Barley & Vine for performances by 15+ songwriters\, birthday cake\, and a great hang! This will be a great night to come meet new people and connect with artists in Orlando\n______________________________\nInspired By is a monthly series on every first Wednesday that features local songwriters in Central Florida. Each performer chooses one artist to cover that has inspired their musical journey and presents a half-and-half set of originals and covers!
URL:https://songstringerpresents.com/event/inspired-by-2nd-birthday-bash-2/
LOCATION:Barley & Vine Biergarten\, 2406 E Washington St\, Orlando\, FL\, 32803\, United States
CATEGORIES:Inspired By
ORGANIZER;CN="Song Stringer":MAILTO:contact@songstringerpresents.com
END:VEVENT
BEGIN:VEVENT
DTSTART;TZID=America/New_York:20240920T200000
DTEND;TZID=America/New_York:20240920T230000
DTSTAMP:20260422T113230
CREATED:20250116T051410Z
LAST-MODIFIED:20250116T051410Z
UID:226-1726862400-1726873200@songstringerpresents.com
SUMMARY:Songwriters Rising w/ Hannah Stokes feat. Sentinel Events\, Devin & Gage\, Sad Lady Cowboy
DESCRIPTION:Songwriters Rising is a monthly gathering featuring local songwriters\, original music\, and conversation to encourage a new and fun way of connecting with live music and each other.\nEvery 3rd Friday 8-11pm at Bynx Orlando. Tickets are by donation\, but not required. \nSongwriters Rising evolves from the traditional format of the songwriter listening room concert (where the performer gives and the audience takes) and shift towards a new way of experiencing story and song that involves participation and exchange from both artist and listener. \nAt Bynx\, you can expect a space where live music is a mutually active experience for audience and artist. Where the listener feels like they are a part of the artistic experience rather than a passive observer. To become a part of the celestial body rather than remaining the astronomer. \nThis month we are exploring the universes of:\nSentinel Events (instagram.com/sentinel_events)\nDevin & Gage (instagram.com/devinandgage)\nSad Lady Cowboy (instagram.com/sad_lady_cowboy)\nHosted by Hannah Stokes (hannahstokesmusic.com/) \nCome prepared to enjoy a meaningful night of community\, music\, and expression whether you are by yourself or making plans with friends! \nThough we are stars that seem so distant from one another\, we make up one mysterious\, complicated\, beautiful constellation. \n___________________________________________ \n“The experience of ‘otherness’ is essential to our growth and health as intellectual\, emotional\, and spiritual beings. \nIt’s pleasurable to enjoy good music\, but it also enriches our lives to have our deepest hopes\, darkest pains\, and greatest victories validated by another.”
URL:https://songstringerpresents.com/event/songwriters-rising-w-hannah-stokes-feat-sentinel-events-devin-gage-sad-lady-cowboy/
LOCATION:Bynx Cafe\, 420 E Church St. Suite 118\, Orlando\, Florida\, 32801\, United States
CATEGORIES:Songwriters Rising
ORGANIZER;CN="Song Stringer":MAILTO:contact@songstringerpresents.com
END:VEVENT
END:VCALENDAR