BEGIN:VCALENDAR
VERSION:2.0
PRODID:-//Song Stringer Presents - ECPv6.9.0//NONSGML v1.0//EN
CALSCALE:GREGORIAN
METHOD:PUBLISH
X-WR-CALNAME:Song Stringer Presents
X-ORIGINAL-URL:https://songstringerpresents.com
X-WR-CALDESC:Events for Song Stringer Presents
REFRESH-INTERVAL;VALUE=DURATION:PT1H
X-Robots-Tag:noindex
X-PUBLISHED-TTL:PT1H
BEGIN:VTIMEZONE
TZID:America/New_York
BEGIN:DAYLIGHT
TZOFFSETFROM:-0500
TZOFFSETTO:-0400
TZNAME:EDT
DTSTART:20240310T070000
END:DAYLIGHT
BEGIN:STANDARD
TZOFFSETFROM:-0400
TZOFFSETTO:-0500
TZNAME:EST
DTSTART:20241103T060000
END:STANDARD
END:VTIMEZONE
BEGIN:VEVENT
DTSTART;TZID=America/New_York:20240403T200000
DTEND;TZID=America/New_York:20240403T230000
DTSTAMP:20260422T184517
CREATED:20250114T225728Z
LAST-MODIFIED:20250114T225728Z
UID:182-1712174400-1712185200@songstringerpresents.com
SUMMARY:Inspired By w/ Leandro Allegro feat. John Miles\, Dear Sister Kodos\, Kendal Rivera
DESCRIPTION:Join us Wednesday\, April 3rd\, at Barley & Vine for an evening of music by artists that inspired our own. Tickets are by donation\, but not required.\nInspired By is a monthly series that features local songwriters in Central Florida. Each performer chooses one artist to cover that has inspired their musical journey and presents a half-and-half set of originals and covers! \nThis month we are featuring John Miles (Bjork)\, Dear Sister Kodos (The Weakerthans)\, and Kendal Rivera of Holding On For Dear Life (Pat the Bunny). Hosted by Leandro Allegro (Father John Misty). \nSpend an evening becoming acquainted with Orlando’s own songwriters as we celebrate both originality and the power of inspiration. \nBarley & Vine Biergarten\nWednesday\, April 3rd\, 8:00pm\n$5 suggested donation\nAll ages\n_______________________ \nLeandro Allegro\nwww.instagram.com/leandro.allegro.music \nJohn Miles\nwww.instagram.com/john.e.miles \nDear Sister Kodos\nwww.instagram.com/dearsisterkodos \nKendal Rivera of Holding On For Dear Life\nwww.instagram.com/hofdlband/
URL:https://songstringerpresents.com/event/inspired-by-w-leandro-allegro-feat-john-miles-dear-sister-kodos-kendal-rivera/
LOCATION:Florida
CATEGORIES:Inspired By
ORGANIZER;CN="Song Stringer":MAILTO:contact@songstringerpresents.com
END:VEVENT
BEGIN:VEVENT
DTSTART;TZID=America/New_York:20240420T200000
DTEND;TZID=America/New_York:20240420T230000
DTSTAMP:20260422T184517
CREATED:20250116T051403Z
LAST-MODIFIED:20250116T051403Z
UID:215-1713643200-1713654000@songstringerpresents.com
SUMMARY:Songwriters Rising w/ Hannah Stokes feat. Live Heart\, Adam Cotton\, Francesca Tarantino
DESCRIPTION:Songwriters Rising is a monthly gathering featuring local songwriters\, original music\, and conversation to encourage a new and fun way of connecting with live music and each other.\nEvery 3rd Friday (except this month) 8-11pm at Bynx Orlando. Tickets are by donation\, but not required. \nSongwriters Rising evolves from the traditional format of the songwriter listening room concert (where the performer gives and the audience takes) and shift towards a new way of experiencing story and song that involves participation and exchange from both artist and listener. \nAt Bynx\, you can expect a space where live music is a mutually active experience for audience and artist. Where the listener feels like they are a part of the artistic experience rather than a passive observer. To become a part of the celestial body rather than remaining the astronomer. \nThis month we are exploring the universes of:\nLive Hart (instagram.com/livehart)\nAdam Cotton FROM JACKSONVILLE (instagram.com/adamcottonmusic)\nFrancesca Tarantino (linktr.ee/francescatmusic)\nHosted by Hannah Stokes (hannahstokesmusic.com/) \nCome prepared to enjoy a meaningful night of community\, music\, and expression whether you are by yourself or making plans with friends! \nThough we are stars that seem so distant from one another\, we make up one mysterious\, complicated\, beautiful constellation. \n___________________________________________ \n“The experience of ‘otherness’ is essential to our growth and health as intellectual\, emotional\, and spiritual beings. \nIt’s pleasurable to enjoy good music\, but it also enriches our lives to have our deepest hopes\, darkest pains\, and greatest victories validated by another.”
URL:https://songstringerpresents.com/event/songwriters-rising-w-hannah-stokes-feat-live-heart-adam-cotton-francesca-tarantino/
LOCATION:Bynx Cafe\, 420 E Church St. Suite 118\, Orlando\, Florida\, 32801\, United States
CATEGORIES:Songwriters Rising
ORGANIZER;CN="Song Stringer":MAILTO:contact@songstringerpresents.com
END:VEVENT
END:VCALENDAR