BEGIN:VCALENDAR
VERSION:2.0
PRODID:-//Song Stringer Presents - ECPv6.9.0//NONSGML v1.0//EN
CALSCALE:GREGORIAN
METHOD:PUBLISH
X-ORIGINAL-URL:https://songstringerpresents.com
X-WR-CALDESC:Events for Song Stringer Presents
REFRESH-INTERVAL;VALUE=DURATION:PT1H
X-Robots-Tag:noindex
X-PUBLISHED-TTL:PT1H
BEGIN:VTIMEZONE
TZID:America/New_York
BEGIN:DAYLIGHT
TZOFFSETFROM:-0500
TZOFFSETTO:-0400
TZNAME:EDT
DTSTART:20230312T070000
END:DAYLIGHT
BEGIN:STANDARD
TZOFFSETFROM:-0400
TZOFFSETTO:-0500
TZNAME:EST
DTSTART:20231105T060000
END:STANDARD
END:VTIMEZONE
BEGIN:VEVENT
DTSTART;TZID=America/New_York:20230803T210000
DTEND;TZID=America/New_York:20230803T233000
DTSTAMP:20260424T163522
CREATED:20250114T225730Z
LAST-MODIFIED:20250114T231229Z
UID:186-1691096400-1691105400@songstringerpresents.com
SUMMARY:Inspired By XI: Hannah Stokes\, Leandro Allegro\, Sam Alenius\, Nicole Riddering
DESCRIPTION:Join us Thursday\, August 3rd\, at Uncle Lou’s for an evening of music by artists that inspired our own.\nInspired By is a monthly series that features local songwriters in Central Florida. Each performer chooses one artist to cover that has inspired their musical journey and presents a half-and-half set of originals and covers! \nThis month we are featuring Leandro Allegro (Jason Mraz)\, Sam Alenius (Fleetwood Mac)\, Nicole Riddering (The Carpenters) and Hannah Stokes (Corrine Bailey Rae). \nSpend an evening becoming acquainted with Orlando’s own songwriters and enjoy a fresh take on artists you already know and love. \nUncle Lou’s\nThursday\, August 3rd 9:00pm\n$5 cover\nAll ages\n_______________________\nHannah Stokes \nLanding Page \n \nLeandro Allegro\nhttps://instagram.com/leandro.allegro.music \nSam Alenius\nhttps://samaleniusmusic.com/ \nNicole Riddering\nhttps://instagram.com/nicoleriddering
URL:https://songstringerpresents.com/event/inspired-by-xi-hannah-stokes-leandro-allegro-sam-alenius-nicole-riddering/
LOCATION:Uncle Lou’s Entertainment Hall\, 1016 N Mills Ave\, Orlando\, FL\, 32802\, United States
CATEGORIES:Inspired By
ORGANIZER;CN="Song Stringer":MAILTO:contact@songstringerpresents.com
END:VEVENT
BEGIN:VEVENT
DTSTART;TZID=America/New_York:20230813T150000
DTEND;TZID=America/New_York:20230813T160000
DTSTAMP:20260424T163522
CREATED:20250116T054606Z
LAST-MODIFIED:20250116T054606Z
UID:257-1691938800-1691942400@songstringerpresents.com
SUMMARY:Songs for Summer
DESCRIPTION:Join us for an exciting afternoon of cross-genre collaboration featuring a Nashville-style songwriters round accompanied by the Mudita Collective Orchestra!\n\nSongStringer and Mudita America explore the new form of the concert experience – cross-genre collaboration. We deliver a new style of music making with local musicians\, creators\, and artists and create the opportunities for the community members to meet new music\, new art\, and new people. This concert features some of the standard orchestra repertoire to newly written charts by Hannah Stokes\, Ben Wozniak\, and Jan LaVigne arranged for the Mudita Collective Orchestra.\n\nSuggested donation:$20 for general audience$10 for students with ID\n\nLimited seating and standing roomStreet parking or garage parking at 355 Alexander Pl
URL:https://songstringerpresents.com/event/songs-for-summer/
LOCATION:Orlando Rental Studio\, 643 LEXINGTON AVE\, Orlando\, FL\, 32801\, United States
CATEGORIES:Mudita America
ORGANIZER;CN="Mudita America":MAILTO:mudita.america@gmail.com
END:VEVENT
BEGIN:VEVENT
DTSTART;TZID=America/New_York:20230818T200000
DTEND;TZID=America/New_York:20230818T230000
DTSTAMP:20260424T163522
CREATED:20250116T051406Z
LAST-MODIFIED:20250116T051406Z
UID:219-1692388800-1692399600@songstringerpresents.com
SUMMARY:Songwriters Rising feat. Hannah Stokes\, Isabelle Hyde\, Hear Right Now\, Flightless Bird
DESCRIPTION:Songwriters Rising is a monthly gathering featuring local songwriters\, original music\, and conversation to encourage a new and fun way of connecting with live music and each other.\nEvery 3rd Friday 8-11pm at Bynx Orlando. Tickets are by donation\, but not required. \nSongwriters Rising evolves from the traditional format of the songwriter listening room concert (where the performer gives and the audience takes) and shift towards a new way of experiencing story and song that involves participation and exchange from both artist and listener.  \nAt Bynx\, you can expect a space where live music is a mutually active experience for audience and artist. Where the listener feels like they are a part of the artistic experience rather than a passive observer. To become a part of the celestial body rather than remaining the astronomer.  \nCome prepared to enjoy a meaningful night of community\, music\, and expression whether you are by yourself or making plans with friends! \nThis month we are exploring the universes of:\nFlightless Bird (www.instagram.com/flightlessbird.nest/)\nHear Right Now (www.instagram.com/hearrightnow/)\nIsabelle Hyde (www.isabellehyde.com)\nHosted by Hannah Stokes (www.hannahstokesmusic.com/) \nThough we are stars that seem so distant from one another\, we make up one mysterious\, complicated\, beautiful constellation. \n___________________________________________ \n“The experience of ‘otherness’ is essential to our growth and health as intellectual\, emotional\, and spiritual beings.  \nIt’s pleasurable to enjoy good music\, but it also enriches our lives to have our deepest hopes\, darkest pains\, and greatest victories validated by another.”
URL:https://songstringerpresents.com/event/songwriters-rising-feat-hannah-stokes-isabelle-hyde-hear-right-now-flightless-bird/
LOCATION:Bynx Cafe\, 420 E Church St. Suite 118\, Orlando\, Florida\, 32801\, United States
CATEGORIES:Songwriters Rising
ORGANIZER;CN="Song Stringer":MAILTO:contact@songstringerpresents.com
END:VEVENT
END:VCALENDAR