BEGIN:VCALENDAR
VERSION:2.0
PRODID:-//Song Stringer Presents - ECPv6.9.0//NONSGML v1.0//EN
CALSCALE:GREGORIAN
METHOD:PUBLISH
X-ORIGINAL-URL:https://songstringerpresents.com
X-WR-CALDESC:Events for Song Stringer Presents
REFRESH-INTERVAL;VALUE=DURATION:PT1H
X-Robots-Tag:noindex
X-PUBLISHED-TTL:PT1H
BEGIN:VTIMEZONE
TZID:America/New_York
BEGIN:DAYLIGHT
TZOFFSETFROM:-0500
TZOFFSETTO:-0400
TZNAME:EDT
DTSTART:20220313T070000
END:DAYLIGHT
BEGIN:STANDARD
TZOFFSETFROM:-0400
TZOFFSETTO:-0500
TZNAME:EST
DTSTART:20221106T060000
END:STANDARD
END:VTIMEZONE
BEGIN:VEVENT
DTSTART;TZID=America/New_York:20220819T200000
DTEND;TZID=America/New_York:20220819T230000
DTSTAMP:20260421T114128
CREATED:20250116T053419Z
LAST-MODIFIED:20250116T053419Z
UID:245-1660939200-1660950000@songstringerpresents.com
SUMMARY:Songwriter Showcase w/ Hannah Stokes\, TOW\, Katelyn Clark @ Bynx
DESCRIPTION:Songwriter Showcase w/ Hannah Stokes\, TOW\, Katelyn Clark at Bynx \nFriday\, August 19th 8:00pm\nNo Cover\nAll Ages \nHannah Stokes is an indie-folk singer-songwriter in Orlando\, FL. Influenced by the jazz-infused folk songwriting of Joni Mitchell mixed with the sweet folk-pop sound of Maggie Rogers\, she brings with her a soulful voice that radiates throughout a room and original songs that explore powerful personal stories\, reaching an audience eager to connect with her music.
URL:https://songstringerpresents.com/event/songwriter-showcase-w-hannah-stokes-tow-katelyn-clark-bynx/
LOCATION:Bynx Cafe\, 420 E Church St. Suite 118\, Orlando\, Florida\, 32801\, United States
CATEGORIES:Songwriters Rising
ORGANIZER;CN="Song Stringer":MAILTO:contact@songstringerpresents.com
END:VEVENT
END:VCALENDAR