BEGIN:VCALENDAR
VERSION:2.0
PRODID:-//Song Stringer Presents - ECPv6.9.0//NONSGML v1.0//EN
CALSCALE:GREGORIAN
METHOD:PUBLISH
X-WR-CALNAME:Song Stringer Presents
X-ORIGINAL-URL:https://songstringerpresents.com
X-WR-CALDESC:Events for Song Stringer Presents
REFRESH-INTERVAL;VALUE=DURATION:PT1H
X-Robots-Tag:noindex
X-PUBLISHED-TTL:PT1H
BEGIN:VTIMEZONE
TZID:America/New_York
BEGIN:DAYLIGHT
TZOFFSETFROM:-0500
TZOFFSETTO:-0400
TZNAME:EDT
DTSTART:20230312T070000
END:DAYLIGHT
BEGIN:STANDARD
TZOFFSETFROM:-0400
TZOFFSETTO:-0500
TZNAME:EST
DTSTART:20231105T060000
END:STANDARD
BEGIN:DAYLIGHT
TZOFFSETFROM:-0500
TZOFFSETTO:-0400
TZNAME:EDT
DTSTART:20240310T070000
END:DAYLIGHT
BEGIN:STANDARD
TZOFFSETFROM:-0400
TZOFFSETTO:-0500
TZNAME:EST
DTSTART:20241103T060000
END:STANDARD
BEGIN:DAYLIGHT
TZOFFSETFROM:-0500
TZOFFSETTO:-0400
TZNAME:EDT
DTSTART:20250309T070000
END:DAYLIGHT
BEGIN:STANDARD
TZOFFSETFROM:-0400
TZOFFSETTO:-0500
TZNAME:EST
DTSTART:20251102T060000
END:STANDARD
END:VTIMEZONE
BEGIN:VEVENT
DTSTART;TZID=America/New_York:20251017T193000
DTEND;TZID=America/New_York:20251017T210000
DTSTAMP:20260421T075252
CREATED:20250923T140402Z
LAST-MODIFIED:20250923T140403Z
UID:686-1760729400-1760734800@songstringerpresents.com
SUMMARY:Songwriters in the Round with Mudita Orchestra
DESCRIPTION:Americana / Blues / Orchestral: Mudita America—The Artist Collective of Tomorrow—and Song Stringer present the fourth installment of our collaborative concert series\, \nSongwriters in the Round with the Mudita Orchestra! \nThis concert will feature the original music of Central Florida songwriters Hannah Harber Wynn\, Patrick Hagerman\, and Hannah Stokes in a songwriters round format accompanied by the Mudita Collective Orchestra. They will perform bespoke arrangements by Mudita Resident composers that will combine elements of Americana\, Folk\, Country\, Blues\, and Orchestral music. The concert will also feature standard orchestra repertoire arranged specifically for the Mudita Orchestra. \nTogether\, this innovative concert aims to make orchestral music more accessible while championing the voices of local songwriters. \n*** \nIn-person and livestream tickets available. Discounted tickets are available for members\, students\, teachers\, frontline workers\, veterans\, and seniors.\nFree parking on Summerlin Ave. and at Wadeview Park. \nPlease bring a bottle of wine or non-alcoholic beverage to share.
URL:https://songstringerpresents.com/event/songwriters-in-the-round-with-mudita-orchestra/
LOCATION:Timucua Arts Foundation\, 2000 South Summerlin Ave\, Orlando\, FL\, 32806\, United States
CATEGORIES:Mudita America
ATTACH;FMTTYPE=image/png:https://songstringerpresents.com/wp-content/uploads/2025/09/Songwriters-w-Orchestra-Fall-2025-poster-1920-x-1005-e1758636230880.png
ORGANIZER;CN="Mudita America":MAILTO:mudita.america@gmail.com
END:VEVENT
BEGIN:VEVENT
DTSTART;TZID=America/New_York:20250201T193000
DTEND;TZID=America/New_York:20250201T210000
DTSTAMP:20260421T075252
CREATED:20250114T072954Z
LAST-MODIFIED:20250120T214336Z
UID:143-1738438200-1738443600@songstringerpresents.com
SUMMARY:Songwriters in the Round with the Mudita Orchestra
DESCRIPTION:Live at Timucua / International Chamber Music Festival / Folk / World Music Series: The third installment of Song Stringer x Mudita America’s collaborative concert series\, Songwriters in the Round with the Mudita Orchestra! This concert will feature the original music of Hannah Stokes\, Jordan Foley\, and Kaleigh Baker\, prominent singer-songwriters from the Central Florida scene in a songwriters round format accompanied by the Mudita Orchestra performing custom arrangements by local composers. It will also feature some of the standard orchestra repertoire to make orchestral music more accessible while championing the voices of local songwriters.\nPersonnel:\nHannah Stokes\, Vocals and GuitarJordan Foley\, Vocals and GuitarKaleigh Baker\, Vocals and GuitarMudita\, Orchestra\nIn-person and livestream tickets available.\nSpecial pricing is available for members\, students\, teachers\, frontline workers\, veterans\, and seniors.\n***\nThis performance is part of Timucua’s International Chamber Music Festival 2025.
URL:https://songstringerpresents.com/event/songwriters-in-the-round-with-the-mudita-orchestra/
LOCATION:Timucua Arts Foundation\, 2000 South Summerlin Ave\, Orlando\, FL\, 32806\, United States
CATEGORIES:Mudita America
ATTACH;FMTTYPE=image/jpeg:https://songstringerpresents.com/wp-content/uploads/2025/01/Songwriters-w-Orchestra-poster-16-x-9-in-Large-e1737409412331.jpeg
ORGANIZER;CN="Song Stringer":MAILTO:contact@songstringerpresents.com
END:VEVENT
BEGIN:VEVENT
DTSTART;TZID=America/New_York:20240601T193000
DTEND;TZID=America/New_York:20240601T210000
DTSTAMP:20260421T075252
CREATED:20250116T053246Z
LAST-MODIFIED:20250116T053246Z
UID:243-1717270200-1717275600@songstringerpresents.com
SUMMARY:Songs for Change: Songwriters in the Round with the Mudita Collective Orchestra
DESCRIPTION:Join us on Saturday\, June 1st\, at Timucua Arts Foundation for an exciting afternoon of cross-genre collaboration featuring a Nashville-style songwriter’s round accompanied by the Mudita Collective Orchestra! \nSong Stringer and Mudita America explores a new form of concert experience through cross-genre collaboration to make orchestral music more accessible while championing the voices of local songwriters. This concert will feature some of the standard orchestra repertoire and original compositions by local songwriters Yaeli Joan\, Faae\, and Kalani Rose inspired by the theme of “Change”. \nEach songwriter will alternate in sharing a series of original songs\, arranged for orchestra for the first time ever by local composers\, to create a unique listening experience that blends the raw intimacy of the songwriter’s round tradition with the classic grandeur of orchestral music. \nWe hope you join us in this opportunity to deeply connect with new music\, new art\, and new people\, united by a passion for story and song!! \nDoors: 7:00 PM\nShow: 7:30 PM\nTickets: GA $25\nStudents\, Military\, Seniors $20 \nHosts:\nmuditausa.com\ninstagram.com/songstringer \nSongwriters:\ninstagram.com/yaelijoan\ninstagram.com/faaemusic\nkalanirosemusic.com
URL:https://songstringerpresents.com/event/songs-for-change-songwriters-in-the-round-with-the-mudita-collective-orchestra/
LOCATION:Timucua Arts Foundation\, 2000 South Summerlin Ave\, Orlando\, FL\, 32806\, United States
CATEGORIES:Mudita America
ORGANIZER;CN="Mudita America":MAILTO:mudita.america@gmail.com
END:VEVENT
BEGIN:VEVENT
DTSTART;TZID=America/New_York:20230813T150000
DTEND;TZID=America/New_York:20230813T160000
DTSTAMP:20260421T075252
CREATED:20250116T054606Z
LAST-MODIFIED:20250116T054606Z
UID:257-1691938800-1691942400@songstringerpresents.com
SUMMARY:Songs for Summer
DESCRIPTION:Join us for an exciting afternoon of cross-genre collaboration featuring a Nashville-style songwriters round accompanied by the Mudita Collective Orchestra!\n\nSongStringer and Mudita America explore the new form of the concert experience – cross-genre collaboration. We deliver a new style of music making with local musicians\, creators\, and artists and create the opportunities for the community members to meet new music\, new art\, and new people. This concert features some of the standard orchestra repertoire to newly written charts by Hannah Stokes\, Ben Wozniak\, and Jan LaVigne arranged for the Mudita Collective Orchestra.\n\nSuggested donation:$20 for general audience$10 for students with ID\n\nLimited seating and standing roomStreet parking or garage parking at 355 Alexander Pl
URL:https://songstringerpresents.com/event/songs-for-summer/
LOCATION:Orlando Rental Studio\, 643 LEXINGTON AVE\, Orlando\, FL\, 32801\, United States
CATEGORIES:Mudita America
ORGANIZER;CN="Mudita America":MAILTO:mudita.america@gmail.com
END:VEVENT
END:VCALENDAR