BEGIN:VCALENDAR
VERSION:2.0
PRODID:-//Song Stringer Presents - ECPv6.9.0//NONSGML v1.0//EN
CALSCALE:GREGORIAN
METHOD:PUBLISH
X-ORIGINAL-URL:https://songstringerpresents.com
X-WR-CALDESC:Events for Song Stringer Presents
REFRESH-INTERVAL;VALUE=DURATION:PT1H
X-Robots-Tag:noindex
X-PUBLISHED-TTL:PT1H
BEGIN:VTIMEZONE
TZID:America/New_York
BEGIN:DAYLIGHT
TZOFFSETFROM:-0500
TZOFFSETTO:-0400
TZNAME:EDT
DTSTART:20240310T070000
END:DAYLIGHT
BEGIN:STANDARD
TZOFFSETFROM:-0400
TZOFFSETTO:-0500
TZNAME:EST
DTSTART:20241103T060000
END:STANDARD
END:VTIMEZONE
BEGIN:VEVENT
DTSTART;TZID=America/New_York:20240601T193000
DTEND;TZID=America/New_York:20240601T210000
DTSTAMP:20260422T185250
CREATED:20250116T053246Z
LAST-MODIFIED:20250116T053246Z
UID:243-1717270200-1717275600@songstringerpresents.com
SUMMARY:Songs for Change: Songwriters in the Round with the Mudita Collective Orchestra
DESCRIPTION:Join us on Saturday\, June 1st\, at Timucua Arts Foundation for an exciting afternoon of cross-genre collaboration featuring a Nashville-style songwriter’s round accompanied by the Mudita Collective Orchestra! \nSong Stringer and Mudita America explores a new form of concert experience through cross-genre collaboration to make orchestral music more accessible while championing the voices of local songwriters. This concert will feature some of the standard orchestra repertoire and original compositions by local songwriters Yaeli Joan\, Faae\, and Kalani Rose inspired by the theme of “Change”. \nEach songwriter will alternate in sharing a series of original songs\, arranged for orchestra for the first time ever by local composers\, to create a unique listening experience that blends the raw intimacy of the songwriter’s round tradition with the classic grandeur of orchestral music. \nWe hope you join us in this opportunity to deeply connect with new music\, new art\, and new people\, united by a passion for story and song!! \nDoors: 7:00 PM\nShow: 7:30 PM\nTickets: GA $25\nStudents\, Military\, Seniors $20 \nHosts:\nmuditausa.com\ninstagram.com/songstringer \nSongwriters:\ninstagram.com/yaelijoan\ninstagram.com/faaemusic\nkalanirosemusic.com
URL:https://songstringerpresents.com/event/songs-for-change-songwriters-in-the-round-with-the-mudita-collective-orchestra/
LOCATION:Timucua Arts Foundation\, 2000 South Summerlin Ave\, Orlando\, FL\, 32806\, United States
CATEGORIES:Mudita America
ORGANIZER;CN="Mudita America":MAILTO:mudita.america@gmail.com
END:VEVENT
END:VCALENDAR