BEGIN:VCALENDAR
VERSION:2.0
PRODID:-//Song Stringer Presents - ECPv6.9.0//NONSGML v1.0//EN
CALSCALE:GREGORIAN
METHOD:PUBLISH
X-WR-CALNAME:Song Stringer Presents
X-ORIGINAL-URL:https://songstringerpresents.com
X-WR-CALDESC:Events for Song Stringer Presents
REFRESH-INTERVAL;VALUE=DURATION:PT1H
X-Robots-Tag:noindex
X-PUBLISHED-TTL:PT1H
BEGIN:VTIMEZONE
TZID:America/New_York
BEGIN:DAYLIGHT
TZOFFSETFROM:-0500
TZOFFSETTO:-0400
TZNAME:EDT
DTSTART:20220313T070000
END:DAYLIGHT
BEGIN:STANDARD
TZOFFSETFROM:-0400
TZOFFSETTO:-0500
TZNAME:EST
DTSTART:20221106T060000
END:STANDARD
BEGIN:DAYLIGHT
TZOFFSETFROM:-0500
TZOFFSETTO:-0400
TZNAME:EDT
DTSTART:20230312T070000
END:DAYLIGHT
BEGIN:STANDARD
TZOFFSETFROM:-0400
TZOFFSETTO:-0500
TZNAME:EST
DTSTART:20231105T060000
END:STANDARD
END:VTIMEZONE
BEGIN:VEVENT
DTSTART;TZID=America/New_York:20230406T210000
DTEND;TZID=America/New_York:20230406T233000
DTSTAMP:20260421T092704
CREATED:20250114T225730Z
LAST-MODIFIED:20250114T231128Z
UID:189-1680814800-1680823800@songstringerpresents.com
SUMMARY:Inspired By VIII: Hannah Stokes\, Derek Engstrom\, Shay Butter
DESCRIPTION:Join us Thursday\, April 6th\, at Uncle Lou’s for an evening of music by artists that inspired our own.\nInspired By is a monthly series that features local songwriters in Central Florida. Each artist picks one songwriter to cover that has inspired their musical journey as they share their own songs as well! \nThis month we are featuring Derek Engstrom (Shuggie Otis)\, Shay Butter (Lianne La Havas)\, and Hannah Stokes (Theo Katzman). \nSpend an evening becoming acquainted with Orlando’s own songwriters and enjoy a fresh take on artists you already know and love. \nUncle Lou’s\nThursday\, April 6th 9:00pm\n$5 cover\nAll ages\n_______________________\nHannah Stokes \nhome \n \nDerek Engstrom\nhttps://www.facebook.com/engstromderek/ \nShay Butter\nhttps://shaybutterband.com
URL:https://songstringerpresents.com/event/inspired-by-viii-hannah-stokes-derek-engstrom-shay-butter/
LOCATION:Uncle Lou’s Entertainment Hall\, 1016 N Mills Ave\, Orlando\, FL\, 32802\, United States
CATEGORIES:Inspired By
ORGANIZER;CN="Song Stringer":MAILTO:contact@songstringerpresents.com
END:VEVENT
BEGIN:VEVENT
DTSTART;TZID=America/New_York:20230302T210000
DTEND;TZID=America/New_York:20230302T233000
DTSTAMP:20260421T092704
CREATED:20250114T225731Z
LAST-MODIFIED:20250114T231058Z
UID:190-1677790800-1677799800@songstringerpresents.com
SUMMARY:Inspired By VII: Hannah Stokes\, Jordan Foley\, Bryan Hayes\, Joe Lamy
DESCRIPTION:Join us Thursday\, March 2nd\, at Uncle Lou’s for an evening of music by artists that inspired our own.\nInspired By is a monthly series that features local songwriters in Central Florida. Each artist picks one songwriter to cover that has inspired their musical journey as they share their own songs as well! \nThis month we are featuring Joe Lamy (Andy Partridge)\, Bryan Hayes (Paul McCartney)\, Jordan Foley (John Prine)\, and Hannah Stokes (various). \nSpend an evening becoming acquainted with Orlando’s own songwriters and enjoy a fresh take on artists you already know and love. \nUncle Lou’s\nThursday\, March 2nd 9:00pm\n$5 cover\nAll ages\n_______________________\nHannah Stokes \nhome \n \nJordan Foley\nhttp://jordanfoleymusic.com \nBryan Hayes\nhttp://www.bryanhayeslive.com/ \nJoe Lamy\nhttps://www.facebook.com/joe.lamy.music
URL:https://songstringerpresents.com/event/inspired-by-vii-hannah-stokes-jordan-foley-bryan-hayes-joe-lamy/
LOCATION:Uncle Lou’s Entertainment Hall\, 1016 N Mills Ave\, Orlando\, FL\, 32802\, United States
CATEGORIES:Inspired By
ORGANIZER;CN="Song Stringer":MAILTO:contact@songstringerpresents.com
END:VEVENT
BEGIN:VEVENT
DTSTART;TZID=America/New_York:20230216T210000
DTEND;TZID=America/New_York:20230216T233000
DTSTAMP:20260421T092704
CREATED:20250114T225732Z
LAST-MODIFIED:20250114T231027Z
UID:191-1676581200-1676590200@songstringerpresents.com
SUMMARY:Inspired By VI: Hannah Stokes\, Zelda Grey\, Elliott Countess\, Renee Is A Zombie
DESCRIPTION:Inspired By is back for Part VI!Join us Thursday\, February 16th\, at Uncle Lou’s for an evening of music by artists that inspired our own.\nInspired By is a monthly series that features local songwriters in Central Florida. Each artist picks one songwriter to cover that has inspired their musical journey as they share their own songs as well!\nCome prepared to enjoy the music of Blondie by Renee Is A Zombie\, the music of Jimi Hendrix by Elliott Countess (of Shreddie King and Aloma)\, the music of Per Gessle by Zelda Grey\, and the music of Judee Sill by Hannah Stokes\, in addition to original songs of our own.\nFind fresh inspiration and discover new music from these incredible local artists! \nUncle Lou’s\nThursday\, February 16th 9:00pm\n$5 cover\nAll ages\n_______________________\nHannah Stokes \nhome \n \nZelda Grey\nhttps://zeldagreymusic.com \nElliott Countess\nhttps://www.instagram.com/mcxqbz/?hl=en \nRenee Is A Zombie\nhttps://www.instagram.com/reneeisazombie/?hl=en
URL:https://songstringerpresents.com/event/inspired-by-vi-hannah-stokes-zelda-grey-elliott-countess-renee-is-a-zombie/
LOCATION:Uncle Lou’s Entertainment Hall\, 1016 N Mills Ave\, Orlando\, FL\, 32802\, United States
CATEGORIES:Inspired By
ORGANIZER;CN="Song Stringer":MAILTO:contact@songstringerpresents.com
END:VEVENT
BEGIN:VEVENT
DTSTART;TZID=America/New_York:20230105T210000
DTEND;TZID=America/New_York:20230105T235900
DTSTAMP:20260421T092704
CREATED:20250114T230907Z
LAST-MODIFIED:20250114T230907Z
UID:198-1672952400-1672963140@songstringerpresents.com
SUMMARY:Inspired By V: Hannah Stokes\, Jan Lavigne\, The King Tides\, Colt West
DESCRIPTION:Inspired By is back for Part V!Join us Thursday\, January 5th\, at Uncle Lou’s for an evening of music by artists that inspired our own. \nCome prepared to enjoy the music of Roy Orbison by Colt West\, the music of Bob Dylan by The King Tides\, the music of Adrianne Lenker by Jan Lavigne\, and the music of TBD by Hannah Stokes\, in addition to original songs of our own.\nFind fresh inspiration and discover new music from these incredible local artists! \nUncle Lou’s\nThursday\, January 5th 9:00pm\n$5 cover\nAll ages\n_______________________\nHannah Stokes \nhome \n \nJan Lavigne\nhttps://www.instagram.com/feralfamiliar_ \nThe King Tides\nhttps://www.facebook.com/TheKingTidesMusic \nColt West\nhttps://www.instagram.com/coltwestofficial
URL:https://songstringerpresents.com/event/inspired-by-v-hannah-stokes-jan-lavigne-the-king-tides-colt-west/
LOCATION:Uncle Lou’s Entertainment Hall\, 1016 N Mills Ave\, Orlando\, FL\, 32802\, United States
CATEGORIES:Inspired By
ORGANIZER;CN="Song Stringer":MAILTO:contact@songstringerpresents.com
END:VEVENT
BEGIN:VEVENT
DTSTART;TZID=America/New_York:20221201T210000
DTEND;TZID=America/New_York:20221201T235900
DTSTAMP:20260421T092704
CREATED:20250114T230907Z
LAST-MODIFIED:20250114T230907Z
UID:197-1669928400-1669939140@songstringerpresents.com
SUMMARY:Inspired By IV: Hannah Stokes\, John David Williams\, Megan Shea\, Tow
DESCRIPTION:Inspired By is back for Part IV!Join us Thursday\, December 1st\, at Uncle Lou’s for an evening of music by artists that inspired our own. \nCome prepared to enjoy the music of Phoebe Bridgers by Tow\, the music of Françoise Hardy by Megan Shea\, the music of Harry Nilsson by John David Williams\, and the music of Lianne La Havas by Hannah Stokes\, in addition to original songs of our own.\nFind fresh inspiration and discover new music from these incredible local artists! \nUncle Lou’s\nThursday\, December 1st 9:00pm\n$5 cover\nAll ages\n_______________________\nHannah Stokes \nhome \n \nJohn David Williams\nhttps://www.facebook.com/johndavidwilliamslive/ \nMegan Shae\nhttps://www.facebook.com/meganroxane/ \nTow\nhttps://www.instagram.com/t0wmusic/?hl=en
URL:https://songstringerpresents.com/event/inspired-by-iv-hannah-stokes-john-david-williams-megan-shea-tow/
LOCATION:Uncle Lou’s Entertainment Hall\, 1016 N Mills Ave\, Orlando\, FL\, 32802\, United States
CATEGORIES:Inspired By
ORGANIZER;CN="Song Stringer":MAILTO:contact@songstringerpresents.com
END:VEVENT
BEGIN:VEVENT
DTSTART;TZID=America/New_York:20221103T210000
DTEND;TZID=America/New_York:20221103T235900
DTSTAMP:20260421T092704
CREATED:20250114T230907Z
LAST-MODIFIED:20250114T230907Z
UID:196-1667509200-1667519940@songstringerpresents.com
SUMMARY:Inspired By III: Hannah Stokes\, Emily Piriz\, Katelyn Clark\, Ed Hobson
DESCRIPTION:Inspired By is back for Part III!Join us Thursday\, November 3rd\, at Uncle Lou’s for an evening of music by artists that inspired our own. \nCome prepared to enjoy the music of Kelly Clarkson by Katelyn Clark\, the music of Paul Simon by Ed Hobson\, the music of Grace Potter by Emily Piriz\, and the music of Elena Tonra (Daughter) by Hannah Stokes in addition to original songs of our own.  \nFind fresh inspiration and discover new music from these incredible local artists! \nUncle Lou’s\nThursday\, November 3rd 9:00pm\n$5 cover\nAll ages\n_______________________\nHannah Stokes \nhome \n \nKatelyn Clark\nhttps://www.instagram.com/katelyn_music_17/ \nEd Hobson\nhttps://instagram.com/edhobsonmusic?igshid=YmMyMTA2M2Y= \nEmily Piriz\nhttps://instagram.com/realemilypiriz?igshid=YmMyMTA2M2Y=
URL:https://songstringerpresents.com/event/inspired-by-iii-hannah-stokes-emily-piriz-katelyn-clark-ed-hobson/
LOCATION:Uncle Lou’s Entertainment Hall\, 1016 N Mills Ave\, Orlando\, FL\, 32802\, United States
CATEGORIES:Inspired By
ORGANIZER;CN="Song Stringer":MAILTO:contact@songstringerpresents.com
END:VEVENT
BEGIN:VEVENT
DTSTART;TZID=America/New_York:20221013T210000
DTEND;TZID=America/New_York:20221013T235900
DTSTAMP:20260421T092704
CREATED:20250114T230906Z
LAST-MODIFIED:20250114T230906Z
UID:195-1665694800-1665705540@songstringerpresents.com
SUMMARY:"Inspired By" II w/ Hannah Stokes\, Gary Malone\, Chris Dryfoos\, & Nathan May
DESCRIPTION:“Inspired By” is back for Part II!Join us Thursday\, October 13th\, at Uncle Lou’s for an evening of music by artists that inspired our own. \nCome prepared to enjoy the music of Andy Shauf by Nathan May\, the music of Paul Kantner by Chris Dryfoos\, the music of Amos Lee by Gary Malone\, and the music of Carole King by Hannah Stokes\, in addition to original songs of our own. \nFind fresh inspiration and discover new music from these incredible local artists! \nUncle Lou’s\nThursday\, October 13th 9:00pm\n$5 cover\nAll ages\n_______________________ \nHannah Stokes \nhome \n \nGary Malone\nhttps://www.instagram.com/gary.maloneii/?hl=en \nChris Dryfoos\nhttps://chrisdryfoos.bandcamp.com \nNathan May\nhttps://www.instagram.com/moogits_/?hl=en
URL:https://songstringerpresents.com/event/inspired-by-ii-w-hannah-stokes-gary-malone-chris-dryfoos-nathan-may/
LOCATION:Uncle Lou’s Entertainment Hall\, 1016 N Mills Ave\, Orlando\, FL\, 32802\, United States
CATEGORIES:Inspired By
ORGANIZER;CN="Song Stringer":MAILTO:contact@songstringerpresents.com
END:VEVENT
BEGIN:VEVENT
DTSTART;TZID=America/New_York:20220901T210000
DTEND;TZID=America/New_York:20220901T235900
DTSTAMP:20260421T092704
CREATED:20250114T230906Z
LAST-MODIFIED:20250114T230906Z
UID:194-1662066000-1662076740@songstringerpresents.com
SUMMARY:Inspired By Her: Hannah Stokes\, Madison Moon\, Renee Is A Zombie
DESCRIPTION:Join us this Thursday evening at Uncle Lou’s for “Inspired By Her”: an homage to the women in music that inspired our own.\nCome prepared to enjoy the music of Gwen Stefani as interpreted by Renee Is A Zombie (Renee Arozqueta)\, the music of Avril Lavigne as interpreted by Madison Moon and Rayne Kleinman\, and the music of Joni Mitchell as interpreted by Hannah Stokes in addition to original songs of our own. \nFall in love again with the classics you already know and experience fresh inspiration from a new generation.  \nUncle Lou’s\nThursday\, September 1st 9:00pm\n$5 cover\nAll ages \nHannah Stokes is an indie-folk singer-songwriter in Orlando\, FL. Influenced by the jazz-infused folk songwriting of Joni Mitchell mixed with the sweet folk-pop sound of Maggie Rogers\, she brings with her a soulful voice that radiates throughout a room and original songs that explore powerful personal stories\, reaching an audience eager to connect with her music. \nMadison Moon is an alternative/rock artist from Orlando\, FL. Her latest single “Kerosene” features her powerful voice and energetic backing from her full band.  \nRenee Is A Zombie (Renee Arozqueta) is a folk musician from Knoxville\, relocated to Orlando\, Florida with a unique sound that both entertains and captivates.
URL:https://songstringerpresents.com/event/inspired-by-her-hannah-stokes-madison-moon-renee-is-a-zombie/
LOCATION:Uncle Lou’s Entertainment Hall\, 1016 N Mills Ave\, Orlando\, FL\, 32802\, United States
CATEGORIES:Inspired By
ORGANIZER;CN="Song Stringer":MAILTO:contact@songstringerpresents.com
END:VEVENT
END:VCALENDAR