BEGIN:VCALENDAR
VERSION:2.0
PRODID:-//Song Stringer Presents - ECPv6.9.0//NONSGML v1.0//EN
CALSCALE:GREGORIAN
METHOD:PUBLISH
X-ORIGINAL-URL:https://songstringerpresents.com
X-WR-CALDESC:Events for Song Stringer Presents
REFRESH-INTERVAL;VALUE=DURATION:PT1H
X-Robots-Tag:noindex
X-PUBLISHED-TTL:PT1H
BEGIN:VTIMEZONE
TZID:America/New_York
BEGIN:DAYLIGHT
TZOFFSETFROM:-0500
TZOFFSETTO:-0400
TZNAME:EDT
DTSTART:20250309T070000
END:DAYLIGHT
BEGIN:STANDARD
TZOFFSETFROM:-0400
TZOFFSETTO:-0500
TZNAME:EST
DTSTART:20251102T060000
END:STANDARD
END:VTIMEZONE
BEGIN:VEVENT
DTSTART;TZID=America/New_York:20250103T200000
DTEND;TZID=America/New_York:20250103T230000
DTSTAMP:20260423T023049
CREATED:20250114T074350Z
LAST-MODIFIED:20250114T075514Z
UID:150-1735934400-1735945200@songstringerpresents.com
SUMMARY:Inspired By w/ Hannah Stokes feat. Jodi-Ann Taylor\, Diana Trujillo\, Jhi'Aire Huff
DESCRIPTION:Join us Friday\, January 3rd\, at Barley & Vine for an evening of music by artists that inspired our own. Tickets are by donation\, but not required.\nInspired By is a monthly series that features local songwriters in Central Florida. Each performer chooses one artist to cover that has inspired their musical journey and presents a half-and-half set of originals and covers! \nThis month we’re featuring Jodi-Ann Taylor (India.Arie)\, Diana Trujillo (Lady Gaga)\, Jhi’Aire Huff (Bob Marley). Hosted by Hannah Stokes. \nSpend an evening becoming acquainted with Orlando’s own songwriters as we celebrate both originality and the power of inspiration. \nBarley & Vine Biergarten\nFriday\, January 3rd\, 8:00pm\n$5 suggested donation\nAll ages\n_______________________ \nHannah Stokes\nhannahstokesmusic.com \nJodi-Ann Taylor\nhttps://linktr.ee/JodiAnntaylor \nDiana Trujillo\nhttps://linktr.ee/dianatrujillomusic \nJhi’Aire Huff\nhttps://linktr.ee/jhiairehuff
URL:https://songstringerpresents.com/event/inspired-by-w-hannah-stokes-feat-jodi-ann-taylor-diana-trujillo-jhiaire-huff/
LOCATION:Barley & Vine Biergarten\, 2406 E Washington St\, Orlando\, FL\, 32803\, United States
CATEGORIES:Inspired By
ORGANIZER;CN="Song Stringer":MAILTO:contact@songstringerpresents.com
END:VEVENT
BEGIN:VEVENT
DTSTART;TZID=America/New_York:20250205T200000
DTEND;TZID=America/New_York:20250205T230000
DTSTAMP:20260423T023049
CREATED:20250114T071434Z
LAST-MODIFIED:20250120T214305Z
UID:134-1738785600-1738796400@songstringerpresents.com
SUMMARY:Inspired By w/ Hannah Stokes feat. The King Tides\, Ramas\, Almost Good Enough
DESCRIPTION:Join us Wednesday\, February 5th\, at Barley & Vine for an evening of music by artists that inspired our own. Tickets by donation. \nInspired By is a monthly series that features local songwriters in Central Florida. Each performer chooses one artist to cover that has inspired their musical journey and presents a half-and-half set of originals and covers! \nThis month we’re featuring The King Tides (Lennon/McCartney)\, Ramas (The Decemberists)\, & Almost Good Enough (Modern Bsaeball). Hosted by Hannah Stokes. \nSpend an evening becoming acquainted with Orlando’s own songwriters as we celebrate both originality and the power of inspiration. \n_______________________ \nHannah Stokes \nThe King Tides \nRamas \nAlmost Good Enough
URL:https://songstringerpresents.com/event/inspired-by-w-hannah-stokes-feat-the-king-tides-ramas-almost-good-enough/
LOCATION:Barley & Vine Biergarten\, 2406 E Washington St\, Orlando\, FL\, 32803\, United States
CATEGORIES:Inspired By
ATTACH;FMTTYPE=image/jpeg:https://songstringerpresents.com/wp-content/uploads/2025/01/Inspired-By-25-FB-Large-e1737409379916.jpeg
ORGANIZER;CN="Song Stringer":MAILTO:contact@songstringerpresents.com
END:VEVENT
BEGIN:VEVENT
DTSTART;TZID=America/New_York:20250305T200000
DTEND;TZID=America/New_York:20250305T230000
DTSTAMP:20260423T023049
CREATED:20250219T062521Z
LAST-MODIFIED:20250219T062521Z
UID:415-1741204800-1741215600@songstringerpresents.com
SUMMARY:Inspired By w/ Hannah Stokes feat. Taylor Maxwell\, Elizabeth Ward\, Joel Pickering
DESCRIPTION:Join us Wednesday\, March 5th\, at Barley & Vine for an evening of music by artists that inspired our own. Tickets by donation. \nInspired By is a monthly series that features local songwriters in Central Florida. Each performer chooses one artist to cover that has inspired their musical journey and presents a half-and-half set of originals and covers! \nThis month we’re featuring Taylor Maxwell (Wilco)\, Elizabeth Ward (Brandi Carlile)\, & Joel Pickering (Uncle Tupelo). Hosted by Hannah Stokes. \nSpend an evening becoming acquainted with Orlando’s own songwriters as we celebrate both originality and the power of inspiration. \n  \nBarley & Vine Biergarten \nWednesday\, March 5th\, 8:00pm \n$5 suggested donation \nAll ages \n_______________________ \nHannah Stokes \nhannahstokesmusic.com \nTaylor Maxwell \ntaylormaxwellmusic.com \nElizabeth Ward \ninstagram.com/theukefreak \nJoel Pickering \ninstagram.com/joelpickeringmusic \n 
URL:https://songstringerpresents.com/event/inspired-by-w-hannah-stokes-feat-taylor-maxwell-elizabeth-ward-joel-pickering/
LOCATION:Barley & Vine Biergarten\, 2406 E Washington St\, Orlando\, FL\, 32803\, United States
CATEGORIES:Inspired By
ATTACH;FMTTYPE=image/png:https://songstringerpresents.com/wp-content/uploads/2025/02/Inspired-By-35-web.png
ORGANIZER;CN="Song Stringer":MAILTO:contact@songstringerpresents.com
END:VEVENT
BEGIN:VEVENT
DTSTART;TZID=America/New_York:20250402T200000
DTEND;TZID=America/New_York:20250402T230000
DTSTAMP:20260423T023049
CREATED:20250322T191838Z
LAST-MODIFIED:20250322T191838Z
UID:425-1743624000-1743634800@songstringerpresents.com
SUMMARY:Inspired By w/ Hannah Stokes feat. NISHA\, sammy rose\, Emilee Algarin
DESCRIPTION:Join us Wednesday\, April 2nd\, at Barley & Vine for an evening of music by artists that inspired our own. Tickets by donation. \nInspired By is a monthly series that features local songwriters in Central Florida. Each performer chooses one artist to cover that has inspired their musical journey and presents a half-and-half set of originals and covers! \nThis month we’re featuring NISAH (Rhianna)\, sammy rose (Amy Winehouse)\, & Emilee Algarin (TBD). Hosted by Hannah Stokes. \nSpend an evening becoming acquainted with Orlando’s own songwriters as we celebrate both originality and the power of inspiration. \nBarley & Vine Biergarten\nWednesday\, April 2nd\, 8:00pm\n$5 suggested donation\nAll ages\n_______________________ \nHannah Stokes\nhannahstokesmusic.com \nNISHA\nhttps://www.instagram.com/thisisnisha \nsammy rose\nhttps://linktr.ee/imsammyrose \nEmilee Algarin\nhttps://linktr.ee/emileealgarin
URL:https://songstringerpresents.com/event/inspired-by-w-hannah-stokes-feat-nisha-sammy-rose-emilee-algarin/
LOCATION:Barley & Vine Biergarten\, 2406 E Washington St\, Orlando\, FL\, 32803\, United States
CATEGORIES:Inspired By
ATTACH;FMTTYPE=image/png:https://songstringerpresents.com/wp-content/uploads/2025/03/Inspired-By-42-FB.png
ORGANIZER;CN="Song Stringer":MAILTO:contact@songstringerpresents.com
END:VEVENT
BEGIN:VEVENT
DTSTART;TZID=America/New_York:20250507T200000
DTEND;TZID=America/New_York:20250507T230000
DTSTAMP:20260423T023049
CREATED:20250414T153550Z
LAST-MODIFIED:20250422T033509Z
UID:436-1746648000-1746658800@songstringerpresents.com
SUMMARY:Inspired By w/ Hannah Stokes feat. Hunter Azme\, Savannah Savino\, Tawnee Di Domenico
DESCRIPTION:Join us Wednesday\, May 7th\, at Barley & Vine for an evening of music by artists that inspired our own. Tickets by donation. \nInspired By is a monthly series that features local songwriters in Central Florida. Each performer chooses one artist to cover that has inspired their musical journey and presents a half-and-half set of originals and covers! \nThis month we’re featuring Hunter Azme (The Carpenters)\, Savannah Savino (Amy Winehouse)\, & Tawnee Di Domenico (Janis Joplin). Hosted by Hannah Stokes. \nSpend an evening becoming acquainted with Orlando’s own songwriters as we celebrate both originality and the power of inspiration. \nBarley & Vine Biergarten \nWednesday\, May 7th\, 8:00pm \n$10 suggested donation \nAll ages \n_______________________ \nHannah Stokes \nHunter Azme \nSavannah Savino \nTawnee Di Domenico \n 
URL:https://songstringerpresents.com/event/inspired-by-w-hannah-stokes-feat-hunter-azme-savannah-savino-tawnee-di-domenico/
LOCATION:Barley & Vine Biergarten\, 2406 E Washington St\, Orlando\, FL\, 32803\, United States
CATEGORIES:Inspired By
ATTACH;FMTTYPE=image/png:https://songstringerpresents.com/wp-content/uploads/2025/04/Inspired-By-57-FB.png
ORGANIZER;CN="Song Stringer":MAILTO:contact@songstringerpresents.com
END:VEVENT
BEGIN:VEVENT
DTSTART;TZID=America/New_York:20250604T200000
DTEND;TZID=America/New_York:20250604T230000
DTSTAMP:20260423T023049
CREATED:20250523T185854Z
LAST-MODIFIED:20250523T185854Z
UID:643-1749067200-1749078000@songstringerpresents.com
SUMMARY:Inspired By w/ Joe Lamy feat. Drew Yardis\, Sean Moore\, Elliott Countess
DESCRIPTION:Join us Wednesday\, June 4th\, at Barley & Vine for an evening of music by artists that inspired our own. Tickets by donation. \nInspired By is a monthly series that features local songwriters in Central Florida. Each performer chooses one artist to cover that has inspired their musical journey and presents a half-and-half set of originals and covers! \nThis month we’re featuring Drew Yards (Andrew Bird)\, Sean Moore (Scott Walker)\, & Elliott Countess (Robert Cray). Hosted by Joe Lamy (Ben Folds). \nSpend an evening becoming acquainted with Orlando’s own songwriters as we celebrate both originality and the power of inspiration. \nBarley & Vine Biergarten \nWednesday\, June 4th\, 8:00pm \n$10 suggested donation \nAll ages \n_______________________ \nJoe Lamy (instagram.com/joelamymusic) \nDrew Yardis (instagram.com/djyardis) \nSean Moore (linktr.ee/seanmooore) \nElliott Countess (instagram.com/mcxqbz)
URL:https://songstringerpresents.com/event/inspired-by-w-joe-lamy-feat-drew-yardis-sean-moore-elliott-countess/
LOCATION:Barley & Vine Biergarten\, 2406 E Washington St\, Orlando\, FL\, 32803\, United States
CATEGORIES:Inspired By
ATTACH;FMTTYPE=image/png:https://songstringerpresents.com/wp-content/uploads/2025/05/Inspired-By-64-FB.png
ORGANIZER;CN="Song Stringer":MAILTO:contact@songstringerpresents.com
END:VEVENT
END:VCALENDAR