BEGIN:VCALENDAR
VERSION:2.0
PRODID:-//Song Stringer Presents - ECPv6.9.0//NONSGML v1.0//EN
CALSCALE:GREGORIAN
METHOD:PUBLISH
X-WR-CALNAME:Song Stringer Presents
X-ORIGINAL-URL:https://songstringerpresents.com
X-WR-CALDESC:Events for Song Stringer Presents
REFRESH-INTERVAL;VALUE=DURATION:PT1H
X-Robots-Tag:noindex
X-PUBLISHED-TTL:PT1H
BEGIN:VTIMEZONE
TZID:America/New_York
BEGIN:DAYLIGHT
TZOFFSETFROM:-0500
TZOFFSETTO:-0400
TZNAME:EDT
DTSTART:20250309T070000
END:DAYLIGHT
BEGIN:STANDARD
TZOFFSETFROM:-0400
TZOFFSETTO:-0500
TZNAME:EST
DTSTART:20251102T060000
END:STANDARD
END:VTIMEZONE
BEGIN:VEVENT
DTSTART;TZID=America/New_York:20250103T200000
DTEND;TZID=America/New_York:20250103T230000
DTSTAMP:20260422T054050
CREATED:20250114T074350Z
LAST-MODIFIED:20250114T075514Z
UID:150-1735934400-1735945200@songstringerpresents.com
SUMMARY:Inspired By w/ Hannah Stokes feat. Jodi-Ann Taylor\, Diana Trujillo\, Jhi'Aire Huff
DESCRIPTION:Join us Friday\, January 3rd\, at Barley & Vine for an evening of music by artists that inspired our own. Tickets are by donation\, but not required.\nInspired By is a monthly series that features local songwriters in Central Florida. Each performer chooses one artist to cover that has inspired their musical journey and presents a half-and-half set of originals and covers! \nThis month we’re featuring Jodi-Ann Taylor (India.Arie)\, Diana Trujillo (Lady Gaga)\, Jhi’Aire Huff (Bob Marley). Hosted by Hannah Stokes. \nSpend an evening becoming acquainted with Orlando’s own songwriters as we celebrate both originality and the power of inspiration. \nBarley & Vine Biergarten\nFriday\, January 3rd\, 8:00pm\n$5 suggested donation\nAll ages\n_______________________ \nHannah Stokes\nhannahstokesmusic.com \nJodi-Ann Taylor\nhttps://linktr.ee/JodiAnntaylor \nDiana Trujillo\nhttps://linktr.ee/dianatrujillomusic \nJhi’Aire Huff\nhttps://linktr.ee/jhiairehuff
URL:https://songstringerpresents.com/event/inspired-by-w-hannah-stokes-feat-jodi-ann-taylor-diana-trujillo-jhiaire-huff/
LOCATION:Barley & Vine Biergarten\, 2406 E Washington St\, Orlando\, FL\, 32803\, United States
CATEGORIES:Inspired By
ORGANIZER;CN="Song Stringer":MAILTO:contact@songstringerpresents.com
END:VEVENT
END:VCALENDAR