BEGIN:VCALENDAR
VERSION:2.0
PRODID:-//Song Stringer Presents - ECPv6.9.0//NONSGML v1.0//EN
CALSCALE:GREGORIAN
METHOD:PUBLISH
X-ORIGINAL-URL:https://songstringerpresents.com
X-WR-CALDESC:Events for Song Stringer Presents
REFRESH-INTERVAL;VALUE=DURATION:PT1H
X-Robots-Tag:noindex
X-PUBLISHED-TTL:PT1H
BEGIN:VTIMEZONE
TZID:America/New_York
BEGIN:DAYLIGHT
TZOFFSETFROM:-0500
TZOFFSETTO:-0400
TZNAME:EDT
DTSTART:20240310T070000
END:DAYLIGHT
BEGIN:STANDARD
TZOFFSETFROM:-0400
TZOFFSETTO:-0500
TZNAME:EST
DTSTART:20241103T060000
END:STANDARD
END:VTIMEZONE
BEGIN:VEVENT
DTSTART;TZID=America/New_York:20241204T200000
DTEND;TZID=America/New_York:20241204T230000
DTSTAMP:20260422T071815
CREATED:20250114T074350Z
LAST-MODIFIED:20250114T075428Z
UID:151-1733342400-1733353200@songstringerpresents.com
SUMMARY:Inspired By w/ Hannah Stokes feat. Jordan Mohr\, Nolia Joy trio\, Hannah MacMillan
DESCRIPTION:Join us Wednesday\, December 4th\, at Barley & Vine for an evening of music by artists that inspired our own. Tickets are by donation\, but not required.\nInspired By is a monthly series that features local songwriters in Central Florida. Each performer chooses one artist to cover that has inspired their musical journey and presents a half-and-half set of originals and covers! \nThis month we’re featuring Jordan Mohr (tbd)\, Nolia Joy trio (Sierra Ferrel)\, and Hannah MacMillan (misc. Christmas). Hosted by Hannah Stokes (Clairo). \nSpend an evening becoming acquainted with Orlando’s own songwriters as we celebrate both originality and the power of inspiration. \nBarley & Vine Biergarten\nWednesday\, December 4th\, 8:00pm\n$5 suggested donation\nAll ages\n_______________________ \nHannah Stokes\nhannahstokesmusic.com \nJordan Mohr\nhttps://linktr.ee/jordanmohrmusic \nNolia Joy trio\nhttp://linktr.ee/nolia.joy.sings \nHannah MacMillan\nhttps://www.instagram.com/hannahmacsings
URL:https://songstringerpresents.com/event/inspired-by-w-hannah-stokes-feat-jordan-mohr-nolia-joy-trio-hannah-mac/
LOCATION:Barley & Vine Biergarten\, 2406 E Washington St\, Orlando\, FL\, 32803\, United States
CATEGORIES:Inspired By
ORGANIZER;CN="Song Stringer":MAILTO:contact@songstringerpresents.com
END:VEVENT
END:VCALENDAR