BEGIN:VCALENDAR
VERSION:2.0
PRODID:-//Song Stringer Presents - ECPv6.9.0//NONSGML v1.0//EN
CALSCALE:GREGORIAN
METHOD:PUBLISH
X-WR-CALNAME:Song Stringer Presents
X-ORIGINAL-URL:https://songstringerpresents.com
X-WR-CALDESC:Events for Song Stringer Presents
REFRESH-INTERVAL;VALUE=DURATION:PT1H
X-Robots-Tag:noindex
X-PUBLISHED-TTL:PT1H
BEGIN:VTIMEZONE
TZID:America/New_York
BEGIN:DAYLIGHT
TZOFFSETFROM:-0500
TZOFFSETTO:-0400
TZNAME:EDT
DTSTART:20230312T070000
END:DAYLIGHT
BEGIN:STANDARD
TZOFFSETFROM:-0400
TZOFFSETTO:-0500
TZNAME:EST
DTSTART:20231105T060000
END:STANDARD
END:VTIMEZONE
BEGIN:VEVENT
DTSTART;TZID=America/New_York:20231004T200000
DTEND;TZID=America/New_York:20231004T230000
DTSTAMP:20260423T040302
CREATED:20250114T225728Z
LAST-MODIFIED:20250114T225728Z
UID:184-1696449600-1696460400@songstringerpresents.com
SUMMARY:Inspired By with Hannah Stokes feat. Derek Stroker\, Beth McKee\, earth tones
DESCRIPTION:Join us Wednesday\, October 4th\, at Barley & Vine for an evening of music by artists that inspired our own. Tickets are by donation\, but not required.\nInspired By is a monthly series that features local songwriters in Central Florida. Each performer chooses one artist to cover that has inspired their musical journey and presents a half-and-half set of originals and covers! \nThis month we are featuring earth tones (dodie)\, Beth McKee (Allen Toussaint)\, Derek Stroker (The Beatles) and Hannah Stokes (Nora Jones). \nSpend an evening becoming acquainted with Orlando’s own songwriters as we celebrate both originality and the power of inspiration. \nBarley & Vine Biergarten\nWednesday\, October 4th\, 8:00pm\n$5 suggested donation\nAll ages\n_______________________ \nHannah Stokes\nhannahstokesmusic.com \nDerek Stroker\nderekstroker.com \nBeth McKee\nbethmckee.com \nearth tones\ninstagram.com/earthtones.sound
URL:https://songstringerpresents.com/event/inspired-by-with-hannah-stokes-feat-derek-stroker-beth-mckee-earth-tones/
LOCATION:FL
CATEGORIES:Inspired By
ORGANIZER;CN="Song Stringer":MAILTO:contact@songstringerpresents.com
END:VEVENT
END:VCALENDAR