BEGIN:VCALENDAR
VERSION:2.0
PRODID:-//Song Stringer Presents - ECPv6.9.0//NONSGML v1.0//EN
CALSCALE:GREGORIAN
METHOD:PUBLISH
X-WR-CALNAME:Song Stringer Presents
X-ORIGINAL-URL:https://songstringerpresents.com
X-WR-CALDESC:Events for Song Stringer Presents
REFRESH-INTERVAL;VALUE=DURATION:PT1H
X-Robots-Tag:noindex
X-PUBLISHED-TTL:PT1H
BEGIN:VTIMEZONE
TZID:America/New_York
BEGIN:DAYLIGHT
TZOFFSETFROM:-0500
TZOFFSETTO:-0400
TZNAME:EDT
DTSTART:20230312T070000
END:DAYLIGHT
BEGIN:STANDARD
TZOFFSETFROM:-0400
TZOFFSETTO:-0500
TZNAME:EST
DTSTART:20231105T060000
END:STANDARD
END:VTIMEZONE
BEGIN:VEVENT
DTSTART;TZID=America/New_York:20230504T210000
DTEND;TZID=America/New_York:20230504T233000
DTSTAMP:20260423T132646
CREATED:20250114T225730Z
LAST-MODIFIED:20250114T231146Z
UID:188-1683234000-1683243000@songstringerpresents.com
SUMMARY:Inspired By IX: Hannah Stokes\, Eric Klingler\, Conor Churchill\, Sarah Judith Anne
DESCRIPTION:Join us Thursday\, May 4th\, at Uncle Lou’s for an evening of music by artists that inspired our own. TICKETS SOLD AT VENUE.\nInspired By is a monthly series that features local songwriters in Central Florida. Each performer chooses one artist to cover that has inspired their musical journey and presents a half-and-half set of originals and covers! \nThis month we are featuring Eric Klingler (Kris Kristofferson)\, Conor Churchill FROM TALLAHASSEE (Jason Isbell)\, Sarah Judith Anne (Searows) and Hannah Stokes (Hozier). \nSpend an evening becoming acquainted with Orlando’s own songwriters and enjoy a fresh take on artists you already know and love. \nUncle Lou’s\nThursday\, May 4th 9:00pm\n$5 cover\nAll ages\n_______________________\nHannah Stokes \nLanding Page \n \nEric Klingler\nhttps://linktr.ee/misterenk \nConor Churchill\nhttps://instagram.com/churchillconor \nSarah Judith Anne\nhttps://sarahjudithanne.squarespace.com/
URL:https://songstringerpresents.com/event/inspired-by-ix-hannah-stokes-eric-klingler-conor-churchill-sarah-judith-anne/
LOCATION:Uncle Lou’s Entertainment Hall\, 1016 N Mills Ave\, Orlando\, FL\, 32802\, United States
CATEGORIES:Inspired By
ORGANIZER;CN="Song Stringer":MAILTO:contact@songstringerpresents.com
END:VEVENT
END:VCALENDAR