BEGIN:VCALENDAR
VERSION:2.0
PRODID:-//Song Stringer Presents - ECPv6.9.0//NONSGML v1.0//EN
CALSCALE:GREGORIAN
METHOD:PUBLISH
X-WR-CALNAME:Song Stringer Presents
X-ORIGINAL-URL:https://songstringerpresents.com
X-WR-CALDESC:Events for Song Stringer Presents
REFRESH-INTERVAL;VALUE=DURATION:PT1H
X-Robots-Tag:noindex
X-PUBLISHED-TTL:PT1H
BEGIN:VTIMEZONE
TZID:America/New_York
BEGIN:DAYLIGHT
TZOFFSETFROM:-0500
TZOFFSETTO:-0400
TZNAME:EDT
DTSTART:20230312T070000
END:DAYLIGHT
BEGIN:STANDARD
TZOFFSETFROM:-0400
TZOFFSETTO:-0500
TZNAME:EST
DTSTART:20231105T060000
END:STANDARD
END:VTIMEZONE
BEGIN:VEVENT
DTSTART;TZID=America/New_York:20230406T210000
DTEND;TZID=America/New_York:20230406T233000
DTSTAMP:20260423T132646
CREATED:20250114T225730Z
LAST-MODIFIED:20250114T231128Z
UID:189-1680814800-1680823800@songstringerpresents.com
SUMMARY:Inspired By VIII: Hannah Stokes\, Derek Engstrom\, Shay Butter
DESCRIPTION:Join us Thursday\, April 6th\, at Uncle Lou’s for an evening of music by artists that inspired our own.\nInspired By is a monthly series that features local songwriters in Central Florida. Each artist picks one songwriter to cover that has inspired their musical journey as they share their own songs as well! \nThis month we are featuring Derek Engstrom (Shuggie Otis)\, Shay Butter (Lianne La Havas)\, and Hannah Stokes (Theo Katzman). \nSpend an evening becoming acquainted with Orlando’s own songwriters and enjoy a fresh take on artists you already know and love. \nUncle Lou’s\nThursday\, April 6th 9:00pm\n$5 cover\nAll ages\n_______________________\nHannah Stokes \nLanding Page \n \nDerek Engstrom\nhttps://www.facebook.com/engstromderek/ \nShay Butter\nhttps://shaybutterband.com
URL:https://songstringerpresents.com/event/inspired-by-viii-hannah-stokes-derek-engstrom-shay-butter/
LOCATION:Uncle Lou’s Entertainment Hall\, 1016 N Mills Ave\, Orlando\, FL\, 32802\, United States
CATEGORIES:Inspired By
ORGANIZER;CN="Song Stringer":MAILTO:contact@songstringerpresents.com
END:VEVENT
END:VCALENDAR