BEGIN:VCALENDAR
VERSION:2.0
PRODID:-//Song Stringer Presents - ECPv6.9.0//NONSGML v1.0//EN
CALSCALE:GREGORIAN
METHOD:PUBLISH
X-ORIGINAL-URL:https://songstringerpresents.com
X-WR-CALDESC:Events for Song Stringer Presents
REFRESH-INTERVAL;VALUE=DURATION:PT1H
X-Robots-Tag:noindex
X-PUBLISHED-TTL:PT1H
BEGIN:VTIMEZONE
TZID:America/New_York
BEGIN:DAYLIGHT
TZOFFSETFROM:-0500
TZOFFSETTO:-0400
TZNAME:EDT
DTSTART:20230312T070000
END:DAYLIGHT
BEGIN:STANDARD
TZOFFSETFROM:-0400
TZOFFSETTO:-0500
TZNAME:EST
DTSTART:20231105T060000
END:STANDARD
END:VTIMEZONE
BEGIN:VEVENT
DTSTART;TZID=America/New_York:20230906T200000
DTEND;TZID=America/New_York:20230906T230000
DTSTAMP:20260423T040354
CREATED:20250114T231650Z
LAST-MODIFIED:20250114T231650Z
UID:205-1694030400-1694041200@songstringerpresents.com
SUMMARY:Inspired By with Hannah Stokes feat. Bryan Hayes & Friends\, Don Ugly\, Tomas Ruiz
DESCRIPTION:Join us Wednesday\, September 6th\, at Barley & Vine for an evening of music by artists that inspired our own. Tickets are by donation\, but not required. \nInspired By is a monthly series that features local songwriters in Central Florida. Each performer chooses one artist to cover that has inspired their musical journey and presents a half-and-half set of originals and covers! \nThis month we are featuring Tómas Ruiz (TBA)\, Don Ugly (Father John Misty)\, Bryan Hayes & Friends (Tenacious D) and Hannah Stokes (TBA). \nSpend an evening becoming acquainted with Orlando’s own songwriters as we celebrate both originality and the power of inspiration. \nBarley & Vine Biergarten\nWednesday\, September 6th\, 8:00pm\nNo cover\nAll ages\n_______________________\nHannah Stokes\nhannahstokesmusic.com \nBryan Hayes & Friends\nbryanhayeslive.com \nDon Ugly\ndonugly.com \nTómas Ruiz\ninstagram.com/imperfecttiming
URL:https://songstringerpresents.com/event/inspired-by-with-hannah-stokes-feat-bryan-hayes-friends-don-ugly-tomas-ruiz/
LOCATION:Barley & Vine Biergarten\, 2406 E Washington St\, Orlando\, FL\, 32803\, United States
CATEGORIES:Inspired By
ORGANIZER;CN="Song Stringer":MAILTO:contact@songstringerpresents.com
END:VEVENT
END:VCALENDAR