BEGIN:VCALENDAR
VERSION:2.0
PRODID:-//Song Stringer Presents - ECPv6.9.0//NONSGML v1.0//EN
CALSCALE:GREGORIAN
METHOD:PUBLISH
X-ORIGINAL-URL:https://songstringerpresents.com
X-WR-CALDESC:Events for Song Stringer Presents
REFRESH-INTERVAL;VALUE=DURATION:PT1H
X-Robots-Tag:noindex
X-PUBLISHED-TTL:PT1H
BEGIN:VTIMEZONE
TZID:America/New_York
BEGIN:DAYLIGHT
TZOFFSETFROM:-0500
TZOFFSETTO:-0400
TZNAME:EDT
DTSTART:20230312T070000
END:DAYLIGHT
BEGIN:STANDARD
TZOFFSETFROM:-0400
TZOFFSETTO:-0500
TZNAME:EST
DTSTART:20231105T060000
END:STANDARD
END:VTIMEZONE
BEGIN:VEVENT
DTSTART;TZID=America/New_York:20230706T210000
DTEND;TZID=America/New_York:20230706T233000
DTSTAMP:20260423T070638
CREATED:20250114T225730Z
LAST-MODIFIED:20250114T231205Z
UID:187-1688677200-1688686200@songstringerpresents.com
SUMMARY:Inspired By X SPECIAL EDITION: Syoma Klochko\, Patrick Moreno\, Tuesday Villane
DESCRIPTION:Join us Thursday\, July 6th\, at Uncle Lou’s for an evening of music by artists that inspired our own. TICKETS SOLD AT VENUE\nInspired By is a monthly series that features local songwriters in Central Florida. Each performer chooses one artist to cover that has inspired their musical journey and presents a half-and-half set of originals and covers! \nIn honor of the 10th show\, this month is a very SPECIAL EDITION featuring songwriters that are NOT singers! Featuring guitarist Syoma Klochko (Sun Ra)\, keyboardist Patrick Moreno and Hannah Stokes (Appalachian Folk Song)\, and vibraphonist Tuesday Villane (Father John Misty)\, spend an evening becoming acquainted with Orlando’s own songwriters and enjoy a fresh take on artists you already know and love. \nUncle Lou’s\nThursday\, July 6th 9:00pm\n$5 cover\nAll ages\n_______________________\nHannah Stokes \nLanding Page \n \nSyoma Klochko\nhttps://www.instagram.com/syoma.zone/ \nPatrick Moreno\nhttps://facebook.com/patrickmorenomusic \nTuesday Villane\nhttps://www.tuesdayvibes.art
URL:https://songstringerpresents.com/event/inspired-by-x-special-edition-syoma-klochko-patrick-moreno-tuesday-villane/
LOCATION:Uncle Lou’s Entertainment Hall\, 1016 N Mills Ave\, Orlando\, FL\, 32802\, United States
CATEGORIES:Inspired By
ORGANIZER;CN="Song Stringer":MAILTO:contact@songstringerpresents.com
END:VEVENT
END:VCALENDAR