BEGIN:VCALENDAR
VERSION:2.0
PRODID:-//Song Stringer Presents - ECPv6.9.0//NONSGML v1.0//EN
CALSCALE:GREGORIAN
METHOD:PUBLISH
X-WR-CALNAME:Song Stringer Presents
X-ORIGINAL-URL:https://songstringerpresents.com
X-WR-CALDESC:Events for Song Stringer Presents
REFRESH-INTERVAL;VALUE=DURATION:PT1H
X-Robots-Tag:noindex
X-PUBLISHED-TTL:PT1H
BEGIN:VTIMEZONE
TZID:America/New_York
BEGIN:DAYLIGHT
TZOFFSETFROM:-0500
TZOFFSETTO:-0400
TZNAME:EDT
DTSTART:20250309T070000
END:DAYLIGHT
BEGIN:STANDARD
TZOFFSETFROM:-0400
TZOFFSETTO:-0500
TZNAME:EST
DTSTART:20251102T060000
END:STANDARD
END:VTIMEZONE
BEGIN:VEVENT
DTSTART;TZID=America/New_York:20250425T190000
DTEND;TZID=America/New_York:20250425T210000
DTSTAMP:20260422T031613
CREATED:20250422T034702Z
LAST-MODIFIED:20250502T205853Z
UID:569-1745607600-1745614800@songstringerpresents.com
SUMMARY:Coffeehouse Concert feat. Jay Luis\, Behind Closed Doors
DESCRIPTION:Fable Coffee and Song Stringer present Songwriters in the Round featuring two of Orlando’s best songwriters \nCome ready for an intimate night of music accompanied by brews and bakes from Fable Coffee \n\nEvery 4th Friday\, 7-9PM\nAll Ages / Free Entry\nFable Coffee (11909 E Colonial Dr. Orlando\, FL)\n\nJay Luis (instagram.com/jayluisofficial) \nBehind Closed Doors (instagram.com/bcdband)
URL:https://songstringerpresents.com/event/songwriters-in-the-round-feat-jay-luis-behind-closed-doors/
LOCATION:Fable Coffee\, 11909 E Colonial Dr\, Orlando\, FL\, 32826\, United States
CATEGORIES:Coffeehouse Concert
ATTACH;FMTTYPE=image/png:https://songstringerpresents.com/wp-content/uploads/2025/04/Fable-Music-copy.png
ORGANIZER;CN="Song Stringer":MAILTO:contact@songstringerpresents.com
END:VEVENT
END:VCALENDAR