BEGIN:VCALENDAR
VERSION:2.0
PRODID:-//Song Stringer Presents - ECPv6.9.0//NONSGML v1.0//EN
CALSCALE:GREGORIAN
METHOD:PUBLISH
X-WR-CALNAME:Song Stringer Presents
X-ORIGINAL-URL:https://songstringerpresents.com
X-WR-CALDESC:Events for Song Stringer Presents
REFRESH-INTERVAL;VALUE=DURATION:PT1H
X-Robots-Tag:noindex
X-PUBLISHED-TTL:PT1H
BEGIN:VTIMEZONE
TZID:America/New_York
BEGIN:DAYLIGHT
TZOFFSETFROM:-0500
TZOFFSETTO:-0400
TZNAME:EDT
DTSTART:20250309T070000
END:DAYLIGHT
BEGIN:STANDARD
TZOFFSETFROM:-0400
TZOFFSETTO:-0500
TZNAME:EST
DTSTART:20251102T060000
END:STANDARD
END:VTIMEZONE
BEGIN:VEVENT
DTSTART;TZID=America/New_York:20250627T190000
DTEND;TZID=America/New_York:20250627T210000
DTSTAMP:20260421T221725
CREATED:20250602T164352Z
LAST-MODIFIED:20250602T164352Z
UID:650-1751050800-1751058000@songstringerpresents.com
SUMMARY:Coffeehouse Concert feat. Aria Fiori & Ben Wozniak
DESCRIPTION:Join us for a free live music concert featuring two of Orlando’s best singer-songwriters on every 4th Friday of the month at our local coffeehouse! \nFable Coffee and Song Stringer presents Songwriters in the Round featuring Aria Fiori & Ben Wozniak \nFriday\, June 27th\, 7-9 PM\nFable Coffee & Pastries -11909 E Colonial Dr. Orlando\, FL 32826\nFree entry / All ages \nCome enjoy an evening of local songwriters\, freshly brewed coffee (decaf available!) and delicious pastries and paninis.\n___________________________ \nUtilizing a classical vocal tone alongside percussive strumming and theatrical performances\, Aria Fiori creates an overarching universe with a mix of quirky lyrical overtones and brooding deep harmonics.\nAn artist of emotional and musical polyphony\, she believes in expressing the human experience through the absurd and vulnerable\, bringing the shadow self to the forefront of her characterization. \nlinktr.ee/ariafiori \n🎶 \nBen Wozniak is a singer/songwriter and guitarist based in Orlando\, Florida. He has been working on the craft of songwriting for over a decade\, composing songs in a variety of styles and languages. He has played gigs throughout Central Florida and as far away as Germany and the UK.\nIn recent years\, he has refined his song-writing\, drawing upon influences from R&B\, Latin\, Jazz\, and World Music. He describes his original music as “an energetic fusion of fun and introspective songs”. \nbenwozniakmusic.com
URL:https://songstringerpresents.com/event/coffeehouse-concert-feat-aria-fiori-ben-wozniak/
LOCATION:Fable Coffee\, 11909 E Colonial Dr\, Orlando\, FL\, 32826\, United States
CATEGORIES:Coffeehouse Concert
ATTACH;FMTTYPE=image/png:https://songstringerpresents.com/wp-content/uploads/2025/06/poster-copy.png
ORGANIZER;CN="Song Stringer":MAILTO:contact@songstringerpresents.com
END:VEVENT
END:VCALENDAR