BEGIN:VCALENDAR
VERSION:2.0
PRODID:-//Song Stringer Presents - ECPv6.9.0//NONSGML v1.0//EN
CALSCALE:GREGORIAN
METHOD:PUBLISH
X-ORIGINAL-URL:https://songstringerpresents.com
X-WR-CALDESC:Events for Song Stringer Presents
REFRESH-INTERVAL;VALUE=DURATION:PT1H
X-Robots-Tag:noindex
X-PUBLISHED-TTL:PT1H
BEGIN:VTIMEZONE
TZID:America/New_York
BEGIN:DAYLIGHT
TZOFFSETFROM:-0500
TZOFFSETTO:-0400
TZNAME:EDT
DTSTART:20250309T070000
END:DAYLIGHT
BEGIN:STANDARD
TZOFFSETFROM:-0400
TZOFFSETTO:-0500
TZNAME:EST
DTSTART:20251102T060000
END:STANDARD
END:VTIMEZONE
BEGIN:VEVENT
DTSTART;TZID=America/New_York:20250124T190000
DTEND;TZID=America/New_York:20250124T210000
DTSTAMP:20260422T065403
CREATED:20250114T072401Z
LAST-MODIFIED:20250120T214358Z
UID:139-1737745200-1737752400@songstringerpresents.com
SUMMARY:Songwriters in the Round feat. Hannah Stokes\, tow at Fable Coffee
DESCRIPTION:Fable Coffee and Song Stringer presents Songwriters in the Round featuring Hannah Stokes and Tow!🎶✨ \nWe’re taking over the UCF-area’s newest coffee shop for their first music night EVER to share our original songs and stories in a writers round. \nCome meet two of Orlando’s best songwriters at this intimate event while enjoying Fable’s signature brews and bakes! ☕️🍰 \nHannah Stokes is a singer-songwriter based in Orlando\, FL. Influenced by the jazz-infused folk songwriting of Joni Mitchell and Nora Jones mixed with the soul stylings of artists like Lianne La Havas and Emily King\, she forges an entrancing sonic landscape to invite you into her inner world and explore powerful personal stories. \n🕊️🕊️🕊️ \nDreamy and highly associative\, Tow is a singer-songwriter hailing from Orlando\, FL. Inspired by the likes of Elliott Smith\, Vashti Bunyan\, and Phoebe Bridgers\, Tow’s music is rich in symbolism\, lyrical perspective\, and catching aching emotions right in the moment.
URL:https://songstringerpresents.com/event/songwriters-in-the-round-feat-hannah-stokes-tow-at-fable-coffee/
LOCATION:Fable Coffee\, 11909 E Colonial Dr\, Orlando\, FL\, 32826\, United States
CATEGORIES:Misc.
ATTACH;FMTTYPE=image/jpeg:https://songstringerpresents.com/wp-content/uploads/2025/01/Fable-Songwriter-Night-FB-Large-e1737409433693.jpeg
ORGANIZER;CN="Song Stringer":MAILTO:contact@songstringerpresents.com
END:VEVENT
END:VCALENDAR