BEGIN:VCALENDAR
VERSION:2.0
PRODID:-//Song Stringer Presents - ECPv6.9.0//NONSGML v1.0//EN
CALSCALE:GREGORIAN
METHOD:PUBLISH
X-ORIGINAL-URL:https://songstringerpresents.com
X-WR-CALDESC:Events for Song Stringer Presents
REFRESH-INTERVAL;VALUE=DURATION:PT1H
X-Robots-Tag:noindex
X-PUBLISHED-TTL:PT1H
BEGIN:VTIMEZONE
TZID:America/New_York
BEGIN:DAYLIGHT
TZOFFSETFROM:-0500
TZOFFSETTO:-0400
TZNAME:EDT
DTSTART:20240310T070000
END:DAYLIGHT
BEGIN:STANDARD
TZOFFSETFROM:-0400
TZOFFSETTO:-0500
TZNAME:EST
DTSTART:20241103T060000
END:STANDARD
END:VTIMEZONE
BEGIN:VEVENT
DTSTART;TZID=America/New_York:20240807T200000
DTEND;TZID=America/New_York:20240807T230000
DTSTAMP:20260422T141837
CREATED:20250114T074837Z
LAST-MODIFIED:20250114T075325Z
UID:167-1723060800-1723071600@songstringerpresents.com
SUMMARY:Inspired By w/ Hannah Stokes feat. Caitlin Mahoney\, Chris Dryfoos\, Andy King
DESCRIPTION:Join us Wednesday\, August 7th\, at Barley & Vine for an evening of music by artists that inspired our own. Tickets are by donation\, but not required.\nInspired By is a monthly series that features local songwriters in Central Florida. Each performer chooses one artist to cover that has inspired their musical journey and presents a half-and-half set of originals and covers! \nThis month we are featuring Caitlin Mahoney from Jacksonville (Bruce Springsteen)\, Chris Dryfoos (Joan Baez)\, and Andy King (Elliott Smith). Hosted by Hannah Stokes (Sara Bareilles) \nSpend an evening becoming acquainted with Orlando’s own songwriters as we celebrate both originality and the power of inspiration. \nBarley & Vine Biergarten\nWednesday\, August 7th\, 8:00pm\n$5 suggested donation\nAll ages\n_______________________ \nHannah Stokes\nhannahstokesmusic.com \nCaitlin Mahoney\nhttps://www.instagram.com/cmahoneymusic \nChris Dryfoos\nhttps://www.instagram.com/chrisdryfoos \nAndy King\nhttps://www.instagram.com/andyking_
URL:https://songstringerpresents.com/event/inspired-by-w-hannah-stokes-feat-caitlin-mahoney-chris-dryfoos-andy-king-2/
LOCATION:Barley & Vine Biergarten\, 2406 E Washington St\, Orlando\, FL\, 32803\, United States
CATEGORIES:Inspired By
ORGANIZER;CN="Song Stringer":MAILTO:contact@songstringerpresents.com
END:VEVENT
END:VCALENDAR