BEGIN:VCALENDAR
VERSION:2.0
PRODID:-//Song Stringer Presents - ECPv6.9.0//NONSGML v1.0//EN
CALSCALE:GREGORIAN
METHOD:PUBLISH
X-WR-CALNAME:Song Stringer Presents
X-ORIGINAL-URL:https://songstringerpresents.com
X-WR-CALDESC:Events for Song Stringer Presents
REFRESH-INTERVAL;VALUE=DURATION:PT1H
X-Robots-Tag:noindex
X-PUBLISHED-TTL:PT1H
BEGIN:VTIMEZONE
TZID:America/New_York
BEGIN:DAYLIGHT
TZOFFSETFROM:-0500
TZOFFSETTO:-0400
TZNAME:EDT
DTSTART:20230312T070000
END:DAYLIGHT
BEGIN:STANDARD
TZOFFSETFROM:-0400
TZOFFSETTO:-0500
TZNAME:EST
DTSTART:20231105T060000
END:STANDARD
END:VTIMEZONE
BEGIN:VEVENT
DTSTART;TZID=America/New_York:20230908T200000
DTEND;TZID=America/New_York:20230908T230000
DTSTAMP:20260424T163024
CREATED:20250116T054159Z
LAST-MODIFIED:20250116T054159Z
UID:254-1694203200-1694214000@songstringerpresents.com
SUMMARY:Hannah Stokes' "How Could This Love Be So" Single Release Show
DESCRIPTION:Join Hannah Stokes Band\, Chelz Danielle\, and Riley Kennedy in celebrating the long awaited release of Hannah’s song “How Could This Love Be So”!! \nPre-save on Spotify: https://tr.ee/p4U0JqgIn8 \nHannah Stokes is a singer-songwriter based in Orlando\, FL. Influenced by the jazz-infused folk songwriting of Joni Mitchell mixed with the soul/RnB stylings of artists like Lianne La Havas and Emily King\, she forges an entrancing sonic landscape to invite you into her inner world. She carries a sultry voice that radiates throughout a room and original songs that explore powerful personal stories\, reaching an audience eager to connect with her music.\nwww.hannahstokesmusic.com \nThe Imperial at Washburn Imports\n1800 N. Orange Ave Orlando\, FL 32804\nFriday\, September 8th\, 2023\nMusic STARTS at 8:00pm\nTickets by donation ($10 suggested)\, but not required\n21+ \nParking: Large parking lot behind the building and metered street parking down Orange Ave and neighboring side streets. DO NOT park at any other business. You WILL be towed.
URL:https://songstringerpresents.com/event/hannah-stokes-how-could-this-love-be-so-single-release-show/
LOCATION:Imperial Wine Bar\, 1800 N Orange Ave\, Orlando\, FL\, 32804\, United States
CATEGORIES:Misc.
ORGANIZER;CN="Song Stringer":MAILTO:contact@songstringerpresents.com
END:VEVENT
END:VCALENDAR